{ "currentVersion": 10.91, "serviceDescription": "
The Lidar Digital Terrain Model dataset is a 50 cm raster representing the bare-earth terrain derived from a classified lidar point cloud, which has been hydro-flattened using waterbody breaklines.<\/SPAN><\/P> The DTM data is available in the form of 1km x 1km non-overlapping tiles by project area. The breaklines which were used by Airborne Imaging Inc. for the creation of the Lidar Digital Terrain Model are also available for download. Data collection occurred during the fall of 2016, fall and spring of 2017 and spring of 2018. <\/SPAN><\/P> <\/P><\/DIV><\/DIV><\/DIV>",
"name": "LIO_DEM",
"description": " The Lidar Digital Terrain Model dataset is a 50 cm raster representing the bare-earth terrain derived from a classified lidar point cloud, which has been hydro-flattened using waterbody breaklines.<\/SPAN><\/P> The DTM data is available in the form of 1km x 1km non-overlapping tiles by project area. The breaklines which were used by Airborne Imaging Inc. for the creation of the Lidar Digital Terrain Model are also available for download. Data collection occurred during the fall of 2016, fall and spring of 2017 and spring of 2018. <\/SPAN><\/P> <\/P><\/DIV><\/DIV><\/DIV>",
"extent": {
"xmin": 479204.0118983526,
"ymin": 4764000.000033545,
"xmax": 584000.0118983525,
"ymax": 4867000.000033545,
"spatialReference": {
"wkid": 26917,
"latestWkid": 26917
}
},
"initialExtent": {
"xmin": 479204.0118983526,
"ymin": 4764000.000033545,
"xmax": 584000.0118983525,
"ymax": 4867000.000033545,
"spatialReference": {
"wkid": 26917,
"latestWkid": 26917
}
},
"fullExtent": {
"xmin": 479204.0118983526,
"ymin": 4764000.000033545,
"xmax": 584000.0118983525,
"ymax": 4867000.000033545,
"spatialReference": {
"wkid": 26917,
"latestWkid": 26917
}
},
"pixelSizeX": 0.4999999999999997,
"pixelSizeY": 0.5,
"bandCount": 1,
"pixelType": "F32",
"minPixelSize": 0,
"maxPixelSize": 0,
"copyrightText": "This airborne topographic lidar acquisition was initiated as a collaborative partnership between the Ministry of Natural Resources and Forestry (MNRF), supporting the Ministry of Agriculture, Food and Rural Affairs (OMAFRA). A contract was awarded to Airborne Imaging Inc. for the collection of lidar for the three defined project areas (Cochrane, Peterborough and Lake Erie watershed).This project was funded in part through Growing Forward 2 (GF2), a federal-provincial-territorial initiative.",
"serviceDataType": "esriImageServiceDataTypeGeneric",
"minValues": [
-9999
],
"maxValues": [
525.47998046875
],
"meanValues": [
346.52364331606
],
"stdvValues": [
67.271210714382
],
"objectIdField": "",
"fields": [],
"capabilities": "Image,Metadata,Mensuration",
"defaultMosaicMethod": "Center",
"allowedMosaicMethods": "",
"sortField": "",
"sortValue": null,
"sortAscending": true,
"mosaicOperator": "First",
"defaultCompressionQuality": 75,
"defaultResamplingMethod": "Bilinear",
"maxImageHeight": 4100,
"maxImageWidth": 15000,
"allowRasterFunction": true,
"rasterFunctionInfos": [
{
"name": "None",
"description": "",
"help": ""
}
],
"rasterTypeInfos": [
{
"name": "Raster Dataset",
"description": "Supports all ArcGIS Raster Datasets",
"help": ""
}
],
"mensurationCapabilities": "Basic",
"hasHistograms": true,
"hasColormap": false,
"hasRasterAttributeTable": false,
"minScale": 0,
"maxScale": 0,
"exportTilesAllowed": false,
"hasMultidimensions": false,
"supportsStatistics": false,
"supportsAdvancedQueries": false,
"editFieldsInfo": null,
"ownershipBasedAccessControlForRasters": null,
"allowComputeTiePoints": false,
"useStandardizedQueries": true,
"advancedQueryCapabilities": {
"useStandardizedQueries": true,
"supportsStatistics": false,
"supportsOrderBy": false,
"supportsDistinct": false,
"supportsPagination": false
},
"spatialReference": {
"wkid": 26917,
"latestWkid": 26917
}
}