View In:
ArcGIS JavaScript
ArcGIS Online Map Viewer
ArcGIS Earth
ArcMap
View Footprint In:
ArcGIS Online Map Viewer
Service Description: The Lidar Digital Terrain Model dataset is a 50 cm raster representing the bare-earth terrain derived from a classified lidar point cloud, which has been hydro-flattened using waterbody breaklines.
The DTM data is available in the form of 1km x 1km non-overlapping tiles by project area. The breaklines which were used by Airborne Imaging Inc. for the creation of the Lidar Digital Terrain Model are also available for download. Data collection occurred during the fall of 2016, fall and spring of 2017 and spring of 2018.
Name: LIO_DEM
Description: The Lidar Digital Terrain Model dataset is a 50 cm raster representing the bare-earth terrain derived from a classified lidar point cloud, which has been hydro-flattened using waterbody breaklines.
The DTM data is available in the form of 1km x 1km non-overlapping tiles by project area. The breaklines which were used by Airborne Imaging Inc. for the creation of the Lidar Digital Terrain Model are also available for download. Data collection occurred during the fall of 2016, fall and spring of 2017 and spring of 2018.
Single Fused Map Cache: false
Extent:
XMin: 479204.0118983526
YMin: 4764000.000033545
XMax: 584000.0118983525
YMax: 4867000.000033545
Spatial Reference: 26917
(26917)
LatestVCSWkid(0)
Initial Extent:
XMin: 479204.0118983526
YMin: 4764000.000033545
XMax: 584000.0118983525
YMax: 4867000.000033545
Spatial Reference: 26917
(26917)
LatestVCSWkid(0)
Full Extent:
XMin: 479204.0118983526
YMin: 4764000.000033545
XMax: 584000.0118983525
YMax: 4867000.000033545
Spatial Reference: 26917
(26917)
LatestVCSWkid(0)
Pixel Size X: 0.4999999999999997
Pixel Size Y: 0.5
Band Count: 1
Pixel Type: F32
RasterFunction Infos: {"rasterFunctionInfos": [{
"name": "None",
"description": "",
"help": ""
}]}
Mensuration Capabilities: Basic
Has Histograms: true
Has Colormap: false
Has Multi Dimensions : false
Rendering Rule:
Min Scale: 0
Max Scale: 0
Copyright Text: This airborne topographic lidar acquisition was initiated as a collaborative partnership between the Ministry of Natural Resources and Forestry (MNRF), supporting the Ministry of Agriculture, Food and Rural Affairs (OMAFRA). A contract was awarded to Airborne Imaging Inc. for the collection of lidar for the three defined project areas (Cochrane, Peterborough and Lake Erie watershed).This project was funded in part through Growing Forward 2 (GF2), a federal-provincial-territorial initiative.
Service Data Type: esriImageServiceDataTypeGeneric
Min Values: -9999
Max Values: 525.47998046875
Mean Values: 346.52364331606
Standard Deviation Values: 67.271210714382
Object ID Field:
Fields:
None
Default Mosaic Method: Center
Allowed Mosaic Methods:
SortField:
SortValue: null
Mosaic Operator: First
Default Compression Quality: 75
Default Resampling Method: Bilinear
Max Record Count: null
Max Image Height: 4100
Max Image Width: 15000
Max Download Image Count: null
Max Mosaic Image Count: null
Allow Raster Function: true
Allow Copy: null
Allow Analysis: null
Allow Compute TiePoints: false
Supports Statistics: false
Supports Advanced Queries: false
Use StandardizedQueries: true
Raster Type Infos:
Name: Raster Dataset
Description: Supports all ArcGIS Raster Datasets
Help:
Has Raster Attribute Table: false
Edit Fields Info: null
Ownership Based AccessControl For Rasters: null
Child Resources:
Info
Histograms
Key Properties
Legend
Raster Function Infos
Supported Operations:
Export Image
Identify
Measure
Compute Histograms
Compute Statistics Histograms
Get Samples
Compute Class Statistics
Query Boundary
Compute Pixel Location
Compute Angles
Validate
Project